BEGIN:VCALENDAR
VERSION:2.0
PRODID:GIGPRESS 2.0 WORDPRESS PLUGIN
CALSCALE:GREGORIAN
X-WR-TIMEZONE:Etc/GMT
METHOD:PUBLISH
BEGIN:VTIMEZONE
TZID:GMT
BEGIN:STANDARD
DTSTART:20071028T010000
TZOFFSETTO:+0000
TZOFFSETFROM:+0000
END:STANDARD
END:VTIMEZONE
BEGIN:VEVENT
SUMMARY:Gogol Bordello at Greenfield
DESCRIPTION:
LOCATION:Greenfield\, Interlaken\, CH
UID:20210603T120000Z-1451-davemcfly@gmail.com
URL:https://www.gogolbordello.com
DTSTART;VALUE=DATE-TIME;TZID=GMT:20210603T120000Z
DTEND;VALUE=DATE-TIME;TZID=GMT:20210605T120000Z
DTSTAMP:20210422T103827Z
END:VEVENT
END:VCALENDAR